BEGIN:VCALENDAR
VERSION:2.0
PRODID:-//wp-events-plugin.com//7.2.3.1//EN
TZID:Europe/Berlin
X-WR-TIMEZONE:Europe/Berlin
BEGIN:VEVENT
UID:62@rettifux.de
DTSTART;TZID=Europe/Berlin:20230921T170000
DTEND;TZID=Europe/Berlin:20230921T200000
DTSTAMP:20230103T145344Z
URL:https://rettifux.de/events/rettifux-kurs-56/
SUMMARY:Rettifux-Kurs
DESCRIPTION:\n\nDer Anmeldeschluss ist am: 18.09.2023
LOCATION:Hebammenpraxis Oranienstraße\, Oranienstraße 2\, Frankfurt am Ma
 in\, 60439\, Deutschland
X-APPLE-STRUCTURED-LOCATION;VALUE=URI;X-ADDRESS=Oranienstraße 2\, Frankfur
 t am Main\, 60439\, Deutschland;X-APPLE-RADIUS=100;X-TITLE=Hebammenpraxis 
 Oranienstraße:geo:0,0
END:VEVENT
BEGIN:VTIMEZONE
TZID:Europe/Berlin
X-LIC-LOCATION:Europe/Berlin
BEGIN:DAYLIGHT
DTSTART:20230326T030000
TZOFFSETFROM:+0100
TZOFFSETTO:+0200
TZNAME:CEST
END:DAYLIGHT
END:VTIMEZONE
END:VCALENDAR