BEGIN:VCALENDAR
VERSION:2.0
PRODID:-//wp-events-plugin.com//7.2.3.1//EN
TZID:Europe/Berlin
X-WR-TIMEZONE:Europe/Berlin
BEGIN:VEVENT
UID:428@rettifux.de
DTSTART;TZID=Europe/Berlin:20261130T170000
DTEND;TZID=Europe/Berlin:20261130T200000
DTSTAMP:20251124T195851Z
URL:https://rettifux.de/events/rettifux-kurs-386/
SUMMARY:Rettifux-Kurs
DESCRIPTION:\n\nDer Anmeldeschluss ist am: 23.11.2026
LOCATION:Hebammenpraxis Schinkestraße Bünde\, Schinkestraße 109a\, Bünd
 e\, NRW\, 32257\, Deutschland
X-APPLE-STRUCTURED-LOCATION;VALUE=URI;X-ADDRESS=Schinkestraße 109a\, Bünd
 e\, NRW\, 32257\, Deutschland;X-APPLE-RADIUS=100;X-TITLE=Hebammenpraxis Sc
 hinkestraße Bünde:geo:0,0
END:VEVENT
BEGIN:VTIMEZONE
TZID:Europe/Berlin
X-LIC-LOCATION:Europe/Berlin
BEGIN:STANDARD
DTSTART:20261025T020000
TZOFFSETFROM:+0200
TZOFFSETTO:+0100
TZNAME:CET
END:STANDARD
END:VTIMEZONE
END:VCALENDAR