BEGIN:VCALENDAR
VERSION:2.0
PRODID:-//wp-events-plugin.com//7.2.3.1//EN
TZID:Europe/Berlin
X-WR-TIMEZONE:Europe/Berlin
BEGIN:VEVENT
UID:318@rettifux.de
DTSTART;TZID=Europe/Berlin:20251023T170000
DTEND;TZID=Europe/Berlin:20251023T200000
DTSTAMP:20241214T202724Z
URL:https://rettifux.de/events/rettifux-kurs-278/
SUMMARY:Rettifux-Kurs
DESCRIPTION:\n\nDer Anmeldeschluss ist am: 16.10.2025
LOCATION:Elternschule Sana-Bildungszentrum Hameln\, Wilhelmstraße 5\, Hame
 ln\, Niedersachsen\, 31785\, Deutschland
X-APPLE-STRUCTURED-LOCATION;VALUE=URI;X-ADDRESS=Wilhelmstraße 5\, Hameln\,
  Niedersachsen\, 31785\, Deutschland;X-APPLE-RADIUS=100;X-TITLE=Elternschu
 le Sana-Bildungszentrum Hameln:geo:0,0
END:VEVENT
BEGIN:VTIMEZONE
TZID:Europe/Berlin
X-LIC-LOCATION:Europe/Berlin
BEGIN:DAYLIGHT
DTSTART:20250330T030000
TZOFFSETFROM:+0100
TZOFFSETTO:+0200
TZNAME:CEST
END:DAYLIGHT
END:VTIMEZONE
END:VCALENDAR